BEGIN:VCALENDAR
VERSION:2.0
PRODID:-//Brookline Labrador Retriever Rescue - ECPv6.15.20//NONSGML v1.0//EN
CALSCALE:GREGORIAN
METHOD:PUBLISH
X-WR-CALNAME:Brookline Labrador Retriever Rescue
X-ORIGINAL-URL:http://brooklinelabrescue.org
X-WR-CALDESC:Events for Brookline Labrador Retriever Rescue
REFRESH-INTERVAL;VALUE=DURATION:PT1H
X-Robots-Tag:noindex
X-PUBLISHED-TTL:PT1H
BEGIN:VTIMEZONE
TZID:America/New_York
BEGIN:DAYLIGHT
TZOFFSETFROM:-0500
TZOFFSETTO:-0400
TZNAME:EDT
DTSTART:20240310T070000
END:DAYLIGHT
BEGIN:STANDARD
TZOFFSETFROM:-0400
TZOFFSETTO:-0500
TZNAME:EST
DTSTART:20241103T060000
END:STANDARD
BEGIN:DAYLIGHT
TZOFFSETFROM:-0500
TZOFFSETTO:-0400
TZNAME:EDT
DTSTART:20250309T070000
END:DAYLIGHT
BEGIN:STANDARD
TZOFFSETFROM:-0400
TZOFFSETTO:-0500
TZNAME:EST
DTSTART:20251102T060000
END:STANDARD
BEGIN:DAYLIGHT
TZOFFSETFROM:-0500
TZOFFSETTO:-0400
TZNAME:EDT
DTSTART:20260308T070000
END:DAYLIGHT
BEGIN:STANDARD
TZOFFSETFROM:-0400
TZOFFSETTO:-0500
TZNAME:EST
DTSTART:20261101T060000
END:STANDARD
END:VTIMEZONE
BEGIN:VEVENT
DTSTART;TZID=America/New_York:20250928T110000
DTEND;TZID=America/New_York:20250928T150000
DTSTAMP:20260424T143410
CREATED:20250922T191537Z
LAST-MODIFIED:20250924T175616Z
UID:10000470-1759057200-1759071600@brooklinelabrescue.org
SUMMARY:Braxton's Harvest Festival Wayne PA
DESCRIPTION:We hope you will stop by our table at Braxton’s Annual Harvest Festival to learn more about our adoptable dogs and how you can make a difference by volunteering\, fostering\, or adopting. We will have some of our handmade dog accessories available for purchase\, including bandannas\, collar bows\, and more. Please visit Braxton’s website for additional information regarding this event: https://www.braxtons.com. \nFoster dog\, Roxy\, will be attending from 11 am to 1 pm. You can learn more about Roxy in her blog on our website at https://brooklinelabrescue.org/blog/roxy-10-yellow-labrador-retriever-female-3-5-years-old-3519/. \nPlease check back the evening before the event to see if any other foster dogs will be attending. \n 
URL:http://brooklinelabrescue.org/event/woofstock-harrisburg-pa-11am-5pm-copy-copy-copy-copy-copy-copy-copy/
LOCATION:Braxton’s Animal Works\, 620 West Lancaster Avenue\, Wayne\, PA\, United States
CATEGORIES:Meet & Greet,Pet Fair,Pet store event
ATTACH;FMTTYPE=image/jpeg:http://brooklinelabrescue.org/wp-content/uploads/2025/09/20250314_122556-rotated.jpg
END:VEVENT
END:VCALENDAR